BEGIN:VCALENDAR
VERSION:2.0
PRODID:spatie/icalendar-generator
DESCRIPTION:Évènements de Prévoyance Pharma
X-WR-CALDESC:Évènements de Prévoyance Pharma
REFRESH-INTERVAL;VALUE=DURATION:PT1440M
X-PUBLISHED-TTL:PT1440M
BEGIN:VTIMEZONE
TZID:Europe/Paris
BEGIN:DAYLIGHT
DTSTART:20250330T020000Z
TZOFFSETFROM:+0100
TZOFFSETTO:+0200
END:DAYLIGHT
BEGIN:STANDARD
DTSTART:20251026T030000Z
TZOFFSETFROM:+0200
TZOFFSETTO:+0100
END:STANDARD
BEGIN:DAYLIGHT
DTSTART:20260329T020000Z
TZOFFSETFROM:+0100
TZOFFSETTO:+0200
END:DAYLIGHT
END:VTIMEZONE
BEGIN:VTIMEZONE
TZID:UTC
BEGIN:STANDARD
DTSTART:20250725T085152Z
TZOFFSETFROM:+0000
TZOFFSETTO:+0000
END:STANDARD
END:VTIMEZONE
BEGIN:VEVENT
UID:111-68
DTSTAMP:20260421T085152Z
SUMMARY:Réunion du 22 octobre 2025
LOCATION:
ORGANIZER;CN=i.akian@apgis.com:MAILTO:i.akian@apgis.com
DTSTART;TZID=Europe/Paris;VALUE=DATE:20251022
DTEND;TZID=Europe/Paris;VALUE=DATE:20251023
X-ALT-DESC;FMTTYPE=TEXT/HTML:Ordre du jour Procès-verbal du précédent co
 mité Suivi des adhésions Focus sur les appels d'offre Suivi technique :
   Actualités  : Mesures contenues à ce stade dans le PLFSS pour 2026 R
 ésultats Santé prévisionnels 2025 arrêtés au 30 septembre 2025 Préve
 ntion Visuelle Présentation Téléconsultation médicale Axa partners  A
 ction sociale : Guichet Unique  Fonds de solidarité Projet…
CATEGORIES:General
URL;VALUE=URI:https://www.prevoyancepharma.com/mc-events/reunion-du-22-octo
 bre-2025/
METHOD:PUBLISH
END:VEVENT
END:VCALENDAR